BEGIN:VCALENDAR
VERSION:2.0
PRODID:-//Taktik-Logistiklehrer - ECPv6.15.20//NONSGML v1.0//EN
CALSCALE:GREGORIAN
METHOD:PUBLISH
X-WR-CALNAME:Taktik-Logistiklehrer
X-ORIGINAL-URL:http://taktik-logistiklehrer.de
X-WR-CALDESC:Veranstaltungen für Taktik-Logistiklehrer
REFRESH-INTERVAL;VALUE=DURATION:PT1H
X-Robots-Tag:noindex
X-PUBLISHED-TTL:PT1H
BEGIN:VTIMEZONE
TZID:UTC
BEGIN:STANDARD
TZOFFSETFROM:+0000
TZOFFSETTO:+0000
TZNAME:UTC
DTSTART:20250101T000000
END:STANDARD
END:VTIMEZONE
BEGIN:VEVENT
DTSTART;TZID=UTC:20261113T160000
DTEND;TZID=UTC:20261114T163000
DTSTAMP:20260421T235004
CREATED:20260224T120525Z
LAST-MODIFIED:20260224T120525Z
UID:5033-1794585600-1794673800@taktik-logistiklehrer.de
SUMMARY:13.11. - 14.11.2026 Taktische Aus- und Weiterbildung "Kurs 7"\, WUNSTORF
DESCRIPTION:Ausb: Oberstleutnant d. R. Hans-Joachim Pratje\, Leitender \nOberst d. R. Jürgen Biester\, Taktik- und Logistiklehrer \n\nMeldeschluss: Mittwoch\, 04.11.2026\, 09:00 Uhr \nAnmeldungen unter nienburg@reservistenverband.de oder telefonisch unter 05021 915039 unter Angabe von Namen\, Dienstgrad\, Anschrift\, PK-Ziffer und ggf. Kfz-Kennzeichen. \n\nAusschreibung
URL:http://taktik-logistiklehrer.de/event/13-11-14-11-2026-taktische-aus-und-weiterbildung-kurs-7-wunstorf
LOCATION:Fliegerhorst Wunstorf\, Zur Luftbrücke 1\, Wunstorf\, 31515
END:VEVENT
BEGIN:VEVENT
DTSTART;TZID=UTC:20261113T180000
DTEND;TZID=UTC:20261115T130000
DTSTAMP:20260421T235004
CREATED:20260217T094957Z
LAST-MODIFIED:20260219T064859Z
UID:4952-1794592800-1794747600@taktik-logistiklehrer.de
SUMMARY:13.11. - 15.11.2026 taktische Aus- und Weiterbildung\, Ergänzungsseminar OST\, DELITZSCH
DESCRIPTION:Ausb: OTL a.D. Jürgen Baumer\, OTL a.D. Manfred Bettendorf \n\nAusschreibung und Dienstplan Anmeldung erfolgt
URL:http://taktik-logistiklehrer.de/event/13-11-15-11-2026-taktische-aus-und-weiterbildung-ergaenzungsseminar-ost-delitzsch
LOCATION:Feldwebel-Boldt-Kaserne\, Feldwebel-Boldt-Straße 1\, Delitzsch\, 04509\, Deutschland
END:VEVENT
BEGIN:VEVENT
DTSTART;TZID=UTC:20261120T180000
DTEND;TZID=UTC:20261122T120000
DTSTAMP:20260421T235004
CREATED:20251203T122636Z
LAST-MODIFIED:20260219T064922Z
UID:4268-1795197600-1795348800@taktik-logistiklehrer.de
SUMMARY:20.11. - 22.11.2026 Taktikergänzungsseminar (Vzö) SÜD\, München
DESCRIPTION:Ausb.: OTL a.D. Jürgen Baumer\, OTL a.D. Manfred Bettendorf \n\nAusschreibung inkl. vorl. Dienstplan  \nAnmeldung bitte über beigefügten Link: \nTaktikergänzung Seminar VID: 1000 25 0095 München \nbis zum 31.07.2026
URL:http://taktik-logistiklehrer.de/event/20-11-22-11-2026-taktikergaenzungsseminar-vzoe-sued-muenchen
LOCATION:Sanitätakademie der Bundeswehr München\, Neuherbergstraße 11\, München\, Bayern\, Deutschland
CATEGORIES:Taktikergänzungsseminar (Verzögerung)
ATTACH;FMTTYPE=image/jpeg:http://taktik-logistiklehrer.de/wp-content/uploads/2023/11/Lage-PzBtl43-1-scaled.jpg
END:VEVENT
END:VCALENDAR