BEGIN:VCALENDAR
VERSION:2.0
PRODID:-//Taktik-Logistiklehrer - ECPv6.15.20//NONSGML v1.0//EN
CALSCALE:GREGORIAN
METHOD:PUBLISH
X-ORIGINAL-URL:http://taktik-logistiklehrer.de
X-WR-CALDESC:Veranstaltungen für Taktik-Logistiklehrer
REFRESH-INTERVAL;VALUE=DURATION:PT1H
X-Robots-Tag:noindex
X-PUBLISHED-TTL:PT1H
BEGIN:VTIMEZONE
TZID:UTC
BEGIN:STANDARD
TZOFFSETFROM:+0000
TZOFFSETTO:+0000
TZNAME:UTC
DTSTART:20250101T000000
END:STANDARD
END:VTIMEZONE
BEGIN:VEVENT
DTSTART;TZID=UTC:20260703T180000
DTEND;TZID=UTC:20260705T130000
DTSTAMP:20260421T172430
CREATED:20260217T090946Z
LAST-MODIFIED:20260219T064533Z
UID:4935-1783101600-1783256400@taktik-logistiklehrer.de
SUMMARY:03.07. - 05.07.2026 taktische Aus- und Weiterbildung\, Grundlagenseminar NORD\, NIENBURG
DESCRIPTION:Ausb.: OTL a.D. Hendrik Guttau\, OTL Wolfgang Rudolph \n\nAusschreibung inkl. vorl. Dienstplan folgt
URL:http://taktik-logistiklehrer.de/event/03-07-05-07-2026-taktische-aus-und-weiterbildung-grundlagenseminar-nord-nienburg
LOCATION:Clausewitz Kaserne\, Am Rehhagen 10\, Nienburg /Weser\, 31582\, Deutschland
END:VEVENT
BEGIN:VEVENT
DTSTART;TZID=UTC:20260710T180000
DTEND;TZID=UTC:20260712T130000
DTSTAMP:20260421T172430
CREATED:20260217T091515Z
LAST-MODIFIED:20260318T095532Z
UID:4937-1783706400-1783861200@taktik-logistiklehrer.de
SUMMARY:10.07. - 12.07.2026 taktische Aus- und Weiterbildung\, Aufbauseminar I SÜD\, MÜNCHEN
DESCRIPTION:Ausb: OTL a.D. Jürgen Baumer\, OTL a.D. Manfred Bettendorf \n\nAusschreibung Taktikaufbauseminar I inkl. vorl. Dienstplan \n\nAnmeldung bis spätestens 10.05.2026 unter folgendem Link: \nhttps://forms.office.com/e/KJ94WrM69i
URL:http://taktik-logistiklehrer.de/event/10-07-12-07-2026-taktische-aus-und-weiterbildung-sued-muenchen
LOCATION:Sanitätakademie der Bundeswehr München\, Neuherbergstraße 11\, München\, Bayern\, Deutschland
END:VEVENT
END:VCALENDAR