BEGIN:VCALENDAR
VERSION:2.0
PRODID:-//Taktik-Logistiklehrer - ECPv6.15.20//NONSGML v1.0//EN
CALSCALE:GREGORIAN
METHOD:PUBLISH
X-ORIGINAL-URL:http://taktik-logistiklehrer.de
X-WR-CALDESC:Veranstaltungen für Taktik-Logistiklehrer
REFRESH-INTERVAL;VALUE=DURATION:PT1H
X-Robots-Tag:noindex
X-PUBLISHED-TTL:PT1H
BEGIN:VTIMEZONE
TZID:UTC
BEGIN:STANDARD
TZOFFSETFROM:+0000
TZOFFSETTO:+0000
TZNAME:UTC
DTSTART:20250101T000000
END:STANDARD
END:VTIMEZONE
BEGIN:VEVENT
DTSTART;TZID=UTC:20260515T180000
DTEND;TZID=UTC:20260517T120000
DTSTAMP:20260421T140818
CREATED:20251203T121133Z
LAST-MODIFIED:20260219T064502Z
UID:4262-1778868000-1779019200@taktik-logistiklehrer.de
SUMMARY:15.05. - 17.05.2026 Taktikgrundlagenseminar OST\, DELITZSCH
DESCRIPTION:Ausb.: OTL a.D. Jürgen Baumer\, OTL a.D. Manfred Bettendorf \n\nAusschreibung inkl. vorl. Dienstplan \nAnmeldung bitte über beigefügten Link: \nTaktikgrundlagen Seminar VID: 1000 25 0090 Delitzsch \nbis zum 31.03.2026 \n 
URL:http://taktik-logistiklehrer.de/event/15-05-17-05-2026-taktikgrundlagenseminar-ost-delitzsch
LOCATION:Feldwebel-Boldt-Kaserne\, Feldwebel-Boldt-Straße 1\, Delitzsch\, 04509\, Deutschland
CATEGORIES:Grundlagenseminar
ATTACH;FMTTYPE=image/jpeg:http://taktik-logistiklehrer.de/wp-content/uploads/2023/10/IMG_3477-1-edited-scaled.jpg
END:VEVENT
BEGIN:VEVENT
DTSTART;TZID=UTC:20260522T160000
DTEND;TZID=UTC:20260523T163000
DTSTAMP:20260421T140818
CREATED:20260224T115100Z
LAST-MODIFIED:20260224T115510Z
UID:5022-1779465600-1779553800@taktik-logistiklehrer.de
SUMMARY:22.05. - 23.05.2026 Taktische Aus- und Weiterbildung "Kurs 3"\, WUNSTORF
DESCRIPTION:Ausb: Oberstleutnant d. R. Hans-Joachim Pratje\, Leitender \nOberst d. R. Jürgen Biester\, Taktik- und Logistiklehrer \n\nMeldeschluss: Mittwoch\, 13.05.2026\, 09:00 Uhr \nAnmeldungen unter nienburg@reservistenverband.de oder telefonisch unter 05021 915039 unter Angabe von Namen\, Dienstgrad\, Anschrift\, PK-Ziffer und ggf. Kfz-Kennzeichen. \n\nTaktik Einladung_3-2026
URL:http://taktik-logistiklehrer.de/event/22-05-23-05-2026-taktische-aus-und-weiterbildung-kurs-3-wunstorf
LOCATION:Fliegerhorst Wunstorf\, Zur Luftbrücke 1\, Wunstorf\, 31515
END:VEVENT
END:VCALENDAR