BEGIN:VCALENDAR
VERSION:2.0
PRODID:-//Taktik-Logistiklehrer - ECPv6.15.20//NONSGML v1.0//EN
CALSCALE:GREGORIAN
METHOD:PUBLISH
X-ORIGINAL-URL:http://taktik-logistiklehrer.de
X-WR-CALDESC:Veranstaltungen für Taktik-Logistiklehrer
REFRESH-INTERVAL;VALUE=DURATION:PT1H
X-Robots-Tag:noindex
X-PUBLISHED-TTL:PT1H
BEGIN:VTIMEZONE
TZID:UTC
BEGIN:STANDARD
TZOFFSETFROM:+0000
TZOFFSETTO:+0000
TZNAME:UTC
DTSTART:20250101T000000
END:STANDARD
END:VTIMEZONE
BEGIN:VEVENT
DTSTART;TZID=UTC:20260130T173000
DTEND;TZID=UTC:20260201T120000
DTSTAMP:20260421T170147
CREATED:20251104T083406Z
LAST-MODIFIED:20251104T083407Z
UID:3919-1769794200-1769947200@taktik-logistiklehrer.de
SUMMARY:30.01. - 01.02.2026 Taktikgrundlagenseminar SÜD\, MÜNCHEN
DESCRIPTION:Ausb: OTL a.D. Manfred Bettendorf\, OTL Martin Müller \n\nAusschreibung inkl. Dienstplan \n\nAnmeldung bis zum 16.12.2025 über folgenden Link: \nhttps://forms.cloud.microsoft/e/yEKJwngMHX
URL:http://taktik-logistiklehrer.de/event/30-01-01-02-2026-taktikgrundlagenseminar-sued-muenchen
LOCATION:Sanitätakademie der Bundeswehr München\, Neuherbergstraße 11\, München\, Bayern\, Deutschland
CATEGORIES:Grundlagenseminar
ATTACH;FMTTYPE=image/jpeg:http://taktik-logistiklehrer.de/wp-content/uploads/2023/10/IMG_3477-1-edited-scaled.jpg
END:VEVENT
END:VCALENDAR