BEGIN:VCALENDAR
VERSION:2.0
PRODID:-//Taktik-Logistiklehrer - ECPv6.15.20//NONSGML v1.0//EN
CALSCALE:GREGORIAN
METHOD:PUBLISH
X-ORIGINAL-URL:http://taktik-logistiklehrer.de
X-WR-CALDESC:Veranstaltungen für Taktik-Logistiklehrer
REFRESH-INTERVAL;VALUE=DURATION:PT1H
X-Robots-Tag:noindex
X-PUBLISHED-TTL:PT1H
BEGIN:VTIMEZONE
TZID:UTC
BEGIN:STANDARD
TZOFFSETFROM:+0000
TZOFFSETTO:+0000
TZNAME:UTC
DTSTART:20240101T000000
END:STANDARD
END:VTIMEZONE
BEGIN:VEVENT
DTSTART;TZID=UTC:20250905T180000
DTEND;TZID=UTC:20250907T113000
DTSTAMP:20260421T232358
CREATED:20241128T091353Z
LAST-MODIFIED:20241128T091354Z
UID:1971-1757095200-1757244600@taktik-logistiklehrer.de
SUMMARY:05.09. - 07.09.2025 Taktikaufbauseminar III (Gefechtsstandausbildung) SÜD\, MÜNCHEN
DESCRIPTION:Ausb: OTL a.D. Jürgen Baumer\, OTL a.D. Manfred Bettendorf\n \n\nAusschreibung mit Dienstplan \n\nAnmeldung bitte bis zum 01.07.2025 über folgenden Link: \nhttps://forms.office.com/e/kfCfWpUGkB
URL:http://taktik-logistiklehrer.de/event/05-09-07-09-2025-taktikaufbauseminar-iii-gefechtsstandausbildung-sued-muenchen
LOCATION:Sanitätakademie der Bundeswehr München\, Neuherbergstraße 11\, München\, Bayern\, Deutschland
CATEGORIES:Aufbauseminar III Verteidigung (Gefechtsstandausbildung)
ATTACH;FMTTYPE=image/jpeg:http://taktik-logistiklehrer.de/wp-content/uploads/2023/06/IMG_3529-2-scaled.jpg
END:VEVENT
BEGIN:VEVENT
DTSTART;TZID=UTC:20250919T163000
DTEND;TZID=UTC:20250920T160000
DTSTAMP:20260421T232358
CREATED:20250108T115406Z
LAST-MODIFIED:20250108T115406Z
UID:2087-1758299400-1758384000@taktik-logistiklehrer.de
SUMMARY:19.09. - 20.09.2025 Taktische Aus- und Weiterbildung "Kurs 5"\, WUNSTORF
DESCRIPTION:Ausb: Oberstleutnant d. R. Hans-Joachim Pratje\, Leitender \nOberst d. R. Jürgen Biester\, Taktik- und Logistiklehrer \n\nAnmeldung bis 10.09.2025\, 09:00 Uhr über die Geschäftsstelle Nienburg \nper Mail an nienburg@reservistenverband.de oder telefonisch unter 05021 – 915 039 \nunter Angabe von Namen\, Dienstgrad\, Anschrift\, PK-Ziffer und ggf. KFZ-Kennzeichen \nAusschreibung Kurs 5
URL:http://taktik-logistiklehrer.de/event/19-09-20-09-2025-taktische-aus-und-weiterbildung-kurs-5-wunstorf
LOCATION:Fliegerhorst Wunstorf\, Zur Luftbrücke 1\, Wunstorf\, 31515
END:VEVENT
BEGIN:VEVENT
DTSTART;TZID=UTC:20250919T180000
DTEND;TZID=UTC:20250921T120000
DTSTAMP:20260421T232358
CREATED:20250225T064816Z
LAST-MODIFIED:20250225T064816Z
UID:2203-1758304800-1758456000@taktik-logistiklehrer.de
SUMMARY:19.09. - 21.09.2025 Taktik Aufbauseminar II (Geländebesprechung)\, im Raum Erfurt
DESCRIPTION:Ausb: OTL a.D. Jürgen Baumer\, OTL a.D. Manfred Bettendorf\, OTL a.D. Thomas Greim \n\nAusschreibung und Dienstplan \n\nAnmeldung bis spätestens 31.07.2025 über folgenden Link \nhttps://forms.office.com/e/veScHHNeQm \nDer genaue Durchführungsort wird noch bekanntgegeben! \n 
URL:http://taktik-logistiklehrer.de/event/19-09-21-09-2025-taktik-aufbauseminar-ii-gelaendebesprechung-im-raum-erfurt
CATEGORIES:Aufbauseminar II Verteidigung (Geländebesprechung)
ATTACH;FMTTYPE=image/jpeg:http://taktik-logistiklehrer.de/wp-content/uploads/2023/06/IMG_3416-3-scaled.jpg
END:VEVENT
END:VCALENDAR