BEGIN:VCALENDAR
VERSION:2.0
PRODID:-//Taktik-Logistiklehrer - ECPv6.15.20//NONSGML v1.0//EN
CALSCALE:GREGORIAN
METHOD:PUBLISH
X-WR-CALNAME:Taktik-Logistiklehrer
X-ORIGINAL-URL:http://taktik-logistiklehrer.de
X-WR-CALDESC:Veranstaltungen für Taktik-Logistiklehrer
REFRESH-INTERVAL;VALUE=DURATION:PT1H
X-Robots-Tag:noindex
X-PUBLISHED-TTL:PT1H
BEGIN:VTIMEZONE
TZID:UTC
BEGIN:STANDARD
TZOFFSETFROM:+0000
TZOFFSETTO:+0000
TZNAME:UTC
DTSTART:20240101T000000
END:STANDARD
END:VTIMEZONE
BEGIN:VEVENT
DTSTART;TZID=UTC:20250502T180000
DTEND;TZID=UTC:20250504T113000
DTSTAMP:20260422T060539
CREATED:20241128T085019Z
LAST-MODIFIED:20241128T090130Z
UID:1966-1746208800-1746358200@taktik-logistiklehrer.de
SUMMARY:02.05. - 04.05.2025 Taktikaufbauseminar I\, ALT DUVENSTEDT
DESCRIPTION:Ausb: OTL a.D. Hendrik Guttau\, OTL Martin Zabel   \n\nAusschreibung mit Dienstplan \n\nAnmeldung bitte bis zum 03.02.2025 über folgenden Link: \nhttps://forms.office.com/e/WFEzDr9L01
URL:http://taktik-logistiklehrer.de/event/02-05-04-05-2025-taktikaufbauseminar-i-alt-duvenstedt
LOCATION:Hugo-Junkers-Kaserne\, Krummenorter Heide 7-10\, Alt Duvenstedt\, 24791\, Deutschland
CATEGORIES:Aufbauseminar I Verteidigung
ATTACH;FMTTYPE=image/jpeg:http://taktik-logistiklehrer.de/wp-content/uploads/2023/02/PzBtl.jpg
END:VEVENT
BEGIN:VEVENT
DTSTART;TZID=UTC:20250523T180000
DTEND;TZID=UTC:20250525T120000
DTSTAMP:20260422T060539
CREATED:20250401T061828Z
LAST-MODIFIED:20250401T105211Z
UID:2300-1748023200-1748174400@taktik-logistiklehrer.de
SUMMARY:23.05. - 25.05.2025 Taktikgrundlagen Seminar NORD\, NIENBURG
DESCRIPTION:Ausb: OTL a.D. Hendrik Guttau\, OTL a.D. Thomas Greim\n \n\nAusschreibung Taktik Grundlagen NIENBURG \nvorl. Dienstplan  \n\nAnmeldung bis spätestens 31.03.2025 mit folgendem Link \nhttps://forms.office.com/e/1tnWaAt4X6
URL:http://taktik-logistiklehrer.de/event/23-05-25-05-2025-taktikgrundlagen-seminar-nord-nienburg
LOCATION:Clausewitz Kaserne\, Am Rehhagen 10\, Nienburg /Weser\, 31582\, Deutschland
CATEGORIES:Grundlagenseminar
ATTACH;FMTTYPE=image/jpeg:http://taktik-logistiklehrer.de/wp-content/uploads/2023/06/IMG_3477-2-scaled.jpg
END:VEVENT
END:VCALENDAR