BEGIN:VCALENDAR
VERSION:2.0
PRODID:-//Taktik-Logistiklehrer - ECPv6.15.20//NONSGML v1.0//EN
CALSCALE:GREGORIAN
METHOD:PUBLISH
X-WR-CALNAME:Taktik-Logistiklehrer
X-ORIGINAL-URL:http://taktik-logistiklehrer.de
X-WR-CALDESC:Veranstaltungen für Taktik-Logistiklehrer
REFRESH-INTERVAL;VALUE=DURATION:PT1H
X-Robots-Tag:noindex
X-PUBLISHED-TTL:PT1H
BEGIN:VTIMEZONE
TZID:UTC
BEGIN:STANDARD
TZOFFSETFROM:+0000
TZOFFSETTO:+0000
TZNAME:UTC
DTSTART:20240101T000000
END:STANDARD
END:VTIMEZONE
BEGIN:VEVENT
DTSTART;TZID=UTC:20250411T160000
DTEND;TZID=UTC:20250412T163000
DTSTAMP:20260422T073724
CREATED:20250108T113619Z
LAST-MODIFIED:20250312T094541Z
UID:2077-1744387200-1744475400@taktik-logistiklehrer.de
SUMMARY:11.04. - 12.04.2025 Taktische Aus- und Weiterbildung "Kurs 2"\, WUNSTORF
DESCRIPTION:Ausb: Oberstleutnant d. R. Hans-Joachim Pratje\, Leitender \nOberst d. R. Jürgen Biester\, Taktik- und Logistiklehrer \n  \n\nAnmeldung bis 02.04.2025\, 09:00 Uhr über die Geschäftsstelle Nienburg \nper Mail an nienburg@reservistenverband.de oder telefonisch unter 05021 – 915 039 \nunter Angabe von Namen\, Dienstgrad\, Anschrift\, PK-Ziffer und ggf. KFZ-Kennzeichen \nAusschreibung Kurs 2 \nDienstplan
URL:http://taktik-logistiklehrer.de/event/11-04-12-04-2025-taktische-aus-und-weiterbildung-kurs-2-wunstorf
LOCATION:Fliegerhorst Wunstorf\, Zur Luftbrücke 1\, Wunstorf\, 31515
END:VEVENT
BEGIN:VEVENT
DTSTART;TZID=UTC:20250425T180000
DTEND;TZID=UTC:20250427T120000
DTSTAMP:20260422T073724
CREATED:20250225T063714Z
LAST-MODIFIED:20250225T063714Z
UID:2200-1745604000-1745755200@taktik-logistiklehrer.de
SUMMARY:25.04. - 27.04.2025 Taktikgrundlagen Seminar SÜD\, MÜNCHEN
DESCRIPTION:Ausb: OTL a.D. Jürgen Baumer\, OTL a.D. Manfred Bettendorf \n\nAusschreibung und Dienstplan \n\nAnmeldung bis spätestens 31.03.2025 mit folgendem Link \nhttps://forms.office.com/e/KxkqWikXwN  \n\n 
URL:http://taktik-logistiklehrer.de/event/25-04-27-04-2025-taktikgrundlagen-seminar-sued-muenchen
LOCATION:Sanitätakademie der Bundeswehr München\, Neuherbergstraße 11\, München\, Bayern\, Deutschland
CATEGORIES:Grundlagenseminar
ATTACH;FMTTYPE=image/jpeg:http://taktik-logistiklehrer.de/wp-content/uploads/2023/10/IMG_3477-1-edited-scaled.jpg
END:VEVENT
END:VCALENDAR