BEGIN:VCALENDAR
VERSION:2.0
PRODID:-//Taktik-Logistiklehrer - ECPv6.15.20//NONSGML v1.0//EN
CALSCALE:GREGORIAN
METHOD:PUBLISH
X-ORIGINAL-URL:http://taktik-logistiklehrer.de
X-WR-CALDESC:Veranstaltungen für Taktik-Logistiklehrer
REFRESH-INTERVAL;VALUE=DURATION:PT1H
X-Robots-Tag:noindex
X-PUBLISHED-TTL:PT1H
BEGIN:VTIMEZONE
TZID:UTC
BEGIN:STANDARD
TZOFFSETFROM:+0000
TZOFFSETTO:+0000
TZNAME:UTC
DTSTART:20230101T000000
END:STANDARD
END:VTIMEZONE
BEGIN:VEVENT
DTSTART;TZID=UTC:20240726T180000
DTEND;TZID=UTC:20240728T120000
DTSTAMP:20260422T203611
CREATED:20240409T084003Z
LAST-MODIFIED:20240411T065851Z
UID:1415-1722016800-1722168000@taktik-logistiklehrer.de
SUMMARY:26.07. -28.07.2024 Taktikgrundlagen Seminar Süd\, MÜNCHEN
DESCRIPTION:Ausb: OTL a.d. Jürgen Baumer\, OTL a.D. Manfred Bettendorf \n\nAusschreibung inkl. Anmeldebogen und Dienstplan
URL:http://taktik-logistiklehrer.de/event/26-07-28-07-2024-taktikgrundlagen-seminar-sued-muenchen
LOCATION:Sanitätakademie der Bundeswehr München\, Neuherbergstraße 11\, München\, Bayern\, Deutschland
CATEGORIES:Grundlagenseminar
ATTACH;FMTTYPE=image/jpeg:http://taktik-logistiklehrer.de/wp-content/uploads/2023/10/IMG_3477-1-edited-scaled.jpg
END:VEVENT
END:VCALENDAR