BEGIN:VCALENDAR
VERSION:2.0
PRODID:-//Taktik-Logistiklehrer - ECPv6.15.20//NONSGML v1.0//EN
CALSCALE:GREGORIAN
METHOD:PUBLISH
X-WR-CALNAME:Taktik-Logistiklehrer
X-ORIGINAL-URL:http://taktik-logistiklehrer.de
X-WR-CALDESC:Veranstaltungen für Taktik-Logistiklehrer
REFRESH-INTERVAL;VALUE=DURATION:PT1H
X-Robots-Tag:noindex
X-PUBLISHED-TTL:PT1H
BEGIN:VTIMEZONE
TZID:UTC
BEGIN:STANDARD
TZOFFSETFROM:+0000
TZOFFSETTO:+0000
TZNAME:UTC
DTSTART:20230101T000000
END:STANDARD
END:VTIMEZONE
BEGIN:VEVENT
DTSTART;VALUE=DATE:20240531
DTEND;VALUE=DATE:20240603
DTSTAMP:20260422T220729
CREATED:20240111T091716Z
LAST-MODIFIED:20240219T055302Z
UID:1278-1717113600-1717372799@taktik-logistiklehrer.de
SUMMARY:31.05. - 02.06.2024 Taktikaufbauseminar II (Geländebesprechung)\, BAD FRANKENHAUSEN
DESCRIPTION:Ausb: OTL Volker Hahn\, OTL a.D. Thomas Greim\, OTL a.d. Baumer\, OTL Sievers \n\nAusschreibung inkl. Anmeldebogen und Dienstplan
URL:http://taktik-logistiklehrer.de/event/31-05-02-06-2024-taktikaufbauseminar-ii-gelaendebesprechung
LOCATION:Kyffhäuser-Kaserne\, Seehäuser Str. 60\, Bad Frankenhausen\, 06567\, Deutschland
CATEGORIES:Aufbauseminar II Verteidigung (Geländebesprechung)
ATTACH;FMTTYPE=image/jpeg:http://taktik-logistiklehrer.de/wp-content/uploads/2023/06/IMG_3416-3-scaled.jpg
END:VEVENT
BEGIN:VEVENT
DTSTART;TZID=UTC:20240601T100000
DTEND;TZID=UTC:20240602T140000
DTSTAMP:20260422T220729
CREATED:20240305T125611Z
LAST-MODIFIED:20240305T125817Z
UID:1366-1717236000-1717336800@taktik-logistiklehrer.de
SUMMARY:01.06. - 02.06.2024 Taktische Aus- und Weiterbildung "Einsteigerseminar" ALT DUVENSTEDT
DESCRIPTION:Ausb: OTL d.D. Hendrik Guttau\n \n\n  \nAnmeldung per Mail bis 03.05.2024 an schleswig-holstein@reservistenverband.de \noder telefonisch unter 0431 – 239 35 50\n \nDienstplan SH 01.06.-02.06.24
URL:http://taktik-logistiklehrer.de/event/01-06-02-06-2024-taktische-aus-und-weiterbildung-einsteigerseminar-alt-duvenstedt
LOCATION:Hugo-Junkers-Kaserne\, Krummenorter Heide 7-10\, Alt Duvenstedt\, 24791\, Deutschland
END:VEVENT
END:VCALENDAR