BEGIN:VCALENDAR
VERSION:2.0
PRODID:-//Taktik-Logistiklehrer - ECPv6.15.20//NONSGML v1.0//EN
CALSCALE:GREGORIAN
METHOD:PUBLISH
X-WR-CALNAME:Taktik-Logistiklehrer
X-ORIGINAL-URL:http://taktik-logistiklehrer.de
X-WR-CALDESC:Veranstaltungen für Taktik-Logistiklehrer
REFRESH-INTERVAL;VALUE=DURATION:PT1H
X-Robots-Tag:noindex
X-PUBLISHED-TTL:PT1H
BEGIN:VTIMEZONE
TZID:UTC
BEGIN:STANDARD
TZOFFSETFROM:+0000
TZOFFSETTO:+0000
TZNAME:UTC
DTSTART:20220101T000000
END:STANDARD
END:VTIMEZONE
BEGIN:VEVENT
DTSTART;TZID=UTC:20231006T180000
DTEND;TZID=UTC:20231008T120000
DTSTAMP:20260423T091413
CREATED:20221213T144026Z
LAST-MODIFIED:20230505T080452Z
UID:518-1696615200-1696766400@taktik-logistiklehrer.de
SUMMARY:Ergänzungsseminar\, Führung im Gefecht\, Gefechtsstandausbildung\, MÜNCHEN - wird verschoben\, Termin folgt
DESCRIPTION:Ausb: OTL a.D. Baumer\, OTL a.D. Bettendorf \n\nAusschreibung folgt \n\nAnmeldung zu einem späteren Zeitpunkt möglich
URL:http://taktik-logistiklehrer.de/event/06-08-10-2023-ergaenzungsseminar-fuehrung-im-gefecht-gefechtsstandausbildung-muenchen
LOCATION:Sanitätakademie der Bundeswehr München\, Neuherbergstraße 11\, München\, Bayern\, Deutschland
CATEGORIES:Aufbauseminar III Verteidigung (Gefechtsstandausbildung)
ATTACH;FMTTYPE=image/png:http://taktik-logistiklehrer.de/wp-content/uploads/2022/11/Bild_Handkarte_neu.png
END:VEVENT
END:VCALENDAR