BEGIN:VCALENDAR
VERSION:2.0
PRODID:-//Taktik-Logistiklehrer - ECPv6.15.20//NONSGML v1.0//EN
CALSCALE:GREGORIAN
METHOD:PUBLISH
X-WR-CALNAME:Taktik-Logistiklehrer
X-ORIGINAL-URL:http://taktik-logistiklehrer.de
X-WR-CALDESC:Veranstaltungen für Taktik-Logistiklehrer
REFRESH-INTERVAL;VALUE=DURATION:PT1H
X-Robots-Tag:noindex
X-PUBLISHED-TTL:PT1H
BEGIN:VTIMEZONE
TZID:UTC
BEGIN:STANDARD
TZOFFSETFROM:+0000
TZOFFSETTO:+0000
TZNAME:UTC
DTSTART:20220101T000000
END:STANDARD
END:VTIMEZONE
BEGIN:VEVENT
DTSTART;VALUE=DATE:20230908
DTEND;VALUE=DATE:20230911
DTSTAMP:20260423T103352
CREATED:20230803T084239Z
LAST-MODIFIED:20230822T080355Z
UID:1048-1694131200-1694390399@taktik-logistiklehrer.de
SUMMARY:08.09. - 10.09.2023 Taktische Aus- und Weiterbildung "Grundlagen Taktik" - abgesagt aufgrund geringer Anmeldungen\, Ersatztermin wird geprüft
DESCRIPTION:Ausb: OTL d.R. Dr. Vahl und M d.R. Grünner \n\nAusschreibung inkl. Dienstplan und Anmeldebogen Unna 08.09.-10.09.2023
URL:http://taktik-logistiklehrer.de/event/08-09-10-09-2023-taktische-aus-und-weiterbildung-grundlagen-taktik
LOCATION:Glückauf-Kaserne\, Kamener Str. 93\, Unna\, 59425\, Deutschland
END:VEVENT
BEGIN:VEVENT
DTSTART;VALUE=DATE:20230915
DTEND;VALUE=DATE:20230917
DTSTAMP:20260423T103352
CREATED:20230120T170710Z
LAST-MODIFIED:20230305T194427Z
UID:739-1694736000-1694908799@taktik-logistiklehrer.de
SUMMARY:15.09. - 16.09.2023 Taktische Aus- und Weiterbildung "Taktik 4"\, WUNSTORF
DESCRIPTION:Ausb: Oberst d.R. Biester \n\nAusschreibung folgt
URL:http://taktik-logistiklehrer.de/event/15-09-16-09-2023-taktische-aus-und-weiterbildung-taktik-4-wunstorf
LOCATION:Fliegerhorst Wunstorf\, Zur Luftbrücke 1\, Wunstorf\, 31515
END:VEVENT
BEGIN:VEVENT
DTSTART;VALUE=DATE:20230915
DTEND;VALUE=DATE:20230917
DTSTAMP:20260423T103352
CREATED:20230120T170921Z
LAST-MODIFIED:20230305T194410Z
UID:741-1694736000-1694908799@taktik-logistiklehrer.de
SUMMARY:06.10. - 07.10.2023 Taktische Aus- und Weiterbildung "Taktik 5"\, WUNSTORF
DESCRIPTION:Ausb: Oberst d.R. Biester \n\nAusschreibung folgt
URL:http://taktik-logistiklehrer.de/event/06-10-07-10-2023-taktische-aus-und-weiterbildung-taktik-5-wunstorf
LOCATION:Fliegerhorst Wunstorf\, Zur Luftbrücke 1\, Wunstorf\, 31515
END:VEVENT
END:VCALENDAR