BEGIN:VCALENDAR
VERSION:2.0
PRODID:-//Taktik-Logistiklehrer - ECPv6.15.20//NONSGML v1.0//EN
CALSCALE:GREGORIAN
METHOD:PUBLISH
X-ORIGINAL-URL:http://taktik-logistiklehrer.de
X-WR-CALDESC:Veranstaltungen für Taktik-Logistiklehrer
REFRESH-INTERVAL;VALUE=DURATION:PT1H
X-Robots-Tag:noindex
X-PUBLISHED-TTL:PT1H
BEGIN:VTIMEZONE
TZID:UTC
BEGIN:STANDARD
TZOFFSETFROM:+0000
TZOFFSETTO:+0000
TZNAME:UTC
DTSTART:20220101T000000
END:STANDARD
END:VTIMEZONE
BEGIN:VEVENT
DTSTART;VALUE=DATE:20230818
DTEND;VALUE=DATE:20230820
DTSTAMP:20260423T115029
CREATED:20230120T170524Z
LAST-MODIFIED:20230803T084120Z
UID:737-1692316800-1692489599@taktik-logistiklehrer.de
SUMMARY:18.08. - 19.08.2023 Taktische Aus- und Weiterbildung "Taktik 3"\, WUNSTORF
DESCRIPTION:Ausb: OTL d.R. Pratje und O d.R. Biester \n\nAusschreibung inkl. Dienstplan
URL:http://taktik-logistiklehrer.de/event/18-08-19-08-2023-taktische-aus-und-weiterbildung-taktik-3-wunstorf
LOCATION:Fliegerhorst Wunstorf\, Zur Luftbrücke 1\, Wunstorf\, 31515
END:VEVENT
BEGIN:VEVENT
DTSTART;VALUE=DATE:20230825
DTEND;VALUE=DATE:20230828
DTSTAMP:20260423T115029
CREATED:20230530T045840Z
LAST-MODIFIED:20230530T050103Z
UID:957-1692921600-1693180799@taktik-logistiklehrer.de
SUMMARY:25.08. - 27.08.2023 Taktikaufbauseminar I\, MÜNCHEN
DESCRIPTION:Ausb: OTL a.D. Baumer\, OTL a.D. Bettendorf \n\nAusschreibung inkl. Dienstplan und Anmeldeformular
URL:http://taktik-logistiklehrer.de/event/25-08-27-08-2023-taktikaufbauseminar-i-muenchen
LOCATION:Sanitätakademie der Bundeswehr München\, Neuherbergstraße 11\, München\, Bayern\, Deutschland
CATEGORIES:Aufbauseminar I Verteidigung
ATTACH;FMTTYPE=image/png:http://taktik-logistiklehrer.de/wp-content/uploads/2022/11/image.png
END:VEVENT
END:VCALENDAR