BEGIN:VCALENDAR
VERSION:2.0
PRODID:-//Taktik-Logistiklehrer - ECPv6.15.20//NONSGML v1.0//EN
CALSCALE:GREGORIAN
METHOD:PUBLISH
X-WR-CALNAME:Taktik-Logistiklehrer
X-ORIGINAL-URL:http://taktik-logistiklehrer.de
X-WR-CALDESC:Veranstaltungen für Taktik-Logistiklehrer
REFRESH-INTERVAL;VALUE=DURATION:PT1H
X-Robots-Tag:noindex
X-PUBLISHED-TTL:PT1H
BEGIN:VTIMEZONE
TZID:UTC
BEGIN:STANDARD
TZOFFSETFROM:+0000
TZOFFSETTO:+0000
TZNAME:UTC
DTSTART:20220101T000000
END:STANDARD
END:VTIMEZONE
BEGIN:VEVENT
DTSTART;VALUE=DATE:20230701
DTEND;VALUE=DATE:20230703
DTSTAMP:20260423T132147
CREATED:20230120T140521Z
LAST-MODIFIED:20230305T194523Z
UID:698-1688169600-1688342399@taktik-logistiklehrer.de
SUMMARY:01.07. - 02.07.2023 Taktische Aus- und Weiterbildung\, "Aufbau I"\, FRANKFURT/MAIN
DESCRIPTION:Ausb: OTL a.D. Greim \n\nAusschreibung folgt
URL:http://taktik-logistiklehrer.de/event/01-07-02-07-2023-taktische-weiterbildung-aufbau-i-frankfurt-main
LOCATION:Frankfurt-Hausen\, Insterburger Straße 4-6\, Frankfurt am Main\, 60487
CATEGORIES:Aufbauseminar I Verteidigung
END:VEVENT
BEGIN:VEVENT
DTSTART;TZID=UTC:20230707T180000
DTEND;TZID=UTC:20230709T120000
DTSTAMP:20260423T132147
CREATED:20221213T143719Z
LAST-MODIFIED:20230505T075756Z
UID:515-1688752800-1688904000@taktik-logistiklehrer.de
SUMMARY:07.07. - 09.07.2023 Taktik Grundlagenseminar\, MÜNCHEN
DESCRIPTION:Ausb: OTL a.D. Baumer\, OTL a.D. Bettendorf \n  \n\nAusschreibung \nvorläufiger Dienstplan \n\nGrdlSem Süd Anmeldebogen
URL:http://taktik-logistiklehrer.de/event/07-09-07-2023-aufbsem-i-verteidigung-muenchen
LOCATION:Sanitätakademie der Bundeswehr München\, Neuherbergstraße 11\, München\, Bayern\, Deutschland
CATEGORIES:Aufbauseminar I Verteidigung
ATTACH;FMTTYPE=image/png:http://taktik-logistiklehrer.de/wp-content/uploads/2022/11/image.png
END:VEVENT
BEGIN:VEVENT
DTSTART;VALUE=DATE:20230715
DTEND;VALUE=DATE:20230717
DTSTAMP:20260423T132147
CREATED:20230120T140641Z
LAST-MODIFIED:20230305T194504Z
UID:700-1689379200-1689551999@taktik-logistiklehrer.de
SUMMARY:15.07. - 16.07.2023 Taktische Aus- und Weiterbildung\, "Aufbau II - Geländebesprechung"\, FRANKFURT/MAIN
DESCRIPTION:Ausb: OTL a.D. Greim \n\nAusschreibung folgt
URL:http://taktik-logistiklehrer.de/event/15-07-16-07-2023-taktische-weiterbildung-aufbau-ii-gelaendebesprechung-frankfurt-main
LOCATION:Frankfurt-Hausen\, Insterburger Straße 4-6\, Frankfurt am Main\, 60487
CATEGORIES:Aufbauseminar II Verteidigung (Geländebesprechung)
END:VEVENT
END:VCALENDAR