BEGIN:VCALENDAR
VERSION:2.0
PRODID:-//Taktik-Logistiklehrer - ECPv6.15.20//NONSGML v1.0//EN
CALSCALE:GREGORIAN
METHOD:PUBLISH
X-ORIGINAL-URL:http://taktik-logistiklehrer.de
X-WR-CALDESC:Veranstaltungen für Taktik-Logistiklehrer
REFRESH-INTERVAL;VALUE=DURATION:PT1H
X-Robots-Tag:noindex
X-PUBLISHED-TTL:PT1H
BEGIN:VTIMEZONE
TZID:UTC
BEGIN:STANDARD
TZOFFSETFROM:+0000
TZOFFSETTO:+0000
TZNAME:UTC
DTSTART:20220101T000000
END:STANDARD
END:VTIMEZONE
BEGIN:VEVENT
DTSTART;TZID=UTC:20230428T180000
DTEND;TZID=UTC:20230505T120000
DTSTAMP:20260423T160631
CREATED:20221213T140817Z
LAST-MODIFIED:20230322T153225Z
UID:495-1682704800-1683288000@taktik-logistiklehrer.de
SUMMARY:28.04. - 05.05.2023 SIRA\, HAMMELBURG
DESCRIPTION:Ausb: OTL a.D. Greim\, OTL a.D. Baumer\, OTL a.D. Bettendorf \n\nAusschreibung SIRA 28.04.-05.05.23 Hammelburg \n\nVorl. DstPlan SIRA 28.04-05.05.2023\, Stand 22.03.2023
URL:http://taktik-logistiklehrer.de/event/28-04-05-05-2023-sira-hammelburg
LOCATION:Infanterieschule  Hammelburg\, Rommelstraße 31\, Hammelburg\, Bayern\, 97762\, Deutschland
CATEGORIES:Aufbausseminar IV - SIRA
ATTACH;FMTTYPE=image/png:http://taktik-logistiklehrer.de/wp-content/uploads/2022/11/Bild_Handkarte_neu.png
END:VEVENT
BEGIN:VEVENT
DTSTART;VALUE=DATE:20230505
DTEND;VALUE=DATE:20230507
DTSTAMP:20260423T160631
CREATED:20230120T134423Z
LAST-MODIFIED:20230330T105254Z
UID:664-1683244800-1683417599@taktik-logistiklehrer.de
SUMMARY:05.05. - 06.05.2023 Taktische Aus- und Weiterbildung\, "Grundlagenausbildung"\, PLÖN
DESCRIPTION:Ausb: OTL a.D. Guttau \n\nAusschreibung Plön 05-06.05.23 inkl. Dienstplan \n\n 
URL:http://taktik-logistiklehrer.de/event/05-06-05-2023-taktik-workshop
LOCATION:Marineunteroffizierschule (MUS)\, Kaserne Ruhleben 30\, Plön\, 24306
CATEGORIES:Grundlagenseminar
END:VEVENT
BEGIN:VEVENT
DTSTART;VALUE=DATE:20230506
DTEND;VALUE=DATE:20230508
DTSTAMP:20260423T160631
CREATED:20230218T160902Z
LAST-MODIFIED:20230305T194544Z
UID:776-1683331200-1683503999@taktik-logistiklehrer.de
SUMMARY:06.05. - 07.05.2023 Taktische Aus- und Weiterbildung\, "Grundlagenausbildung"\, FRANKFURT/MAIN
DESCRIPTION:Ausb: OTL a.D. Greim \n\nAusschreibung folgt
URL:http://taktik-logistiklehrer.de/event/06-05-07-05-2023-taktische-aus-und-weiterbildung-grundlagenausbildung-frankfurt-main
LOCATION:Frankfurt-Hausen\, Insterburger Straße 4-6\, Frankfurt am Main\, 60487
CATEGORIES:Grundlagenseminar
ATTACH;FMTTYPE=image/jpeg:http://taktik-logistiklehrer.de/wp-content/uploads/2023/02/IMG_20230114_105759-scaled-e1676999330564.jpg
END:VEVENT
END:VCALENDAR