BEGIN:VCALENDAR
VERSION:2.0
PRODID:-//Taktik-Logistiklehrer - ECPv6.15.20//NONSGML v1.0//EN
CALSCALE:GREGORIAN
METHOD:PUBLISH
X-ORIGINAL-URL:http://taktik-logistiklehrer.de
X-WR-CALDESC:Veranstaltungen für Taktik-Logistiklehrer
REFRESH-INTERVAL;VALUE=DURATION:PT1H
X-Robots-Tag:noindex
X-PUBLISHED-TTL:PT1H
BEGIN:VTIMEZONE
TZID:UTC
BEGIN:STANDARD
TZOFFSETFROM:+0000
TZOFFSETTO:+0000
TZNAME:UTC
DTSTART:20220101T000000
END:STANDARD
END:VTIMEZONE
BEGIN:VEVENT
DTSTART;TZID=UTC:20230310T180000
DTEND;TZID=UTC:20230312T180000
DTSTAMP:20260423T185819
CREATED:20221213T141252Z
LAST-MODIFIED:20230305T194636Z
UID:497-1678471200-1678644000@taktik-logistiklehrer.de
SUMMARY:10.03. - 12.03.2023 Aufbauseminar I\, "Verteidigung"\, MÜNCHEN
DESCRIPTION:Ausb: OTL a.D. Baumer\, OTL a.D. Bettendorf \n\nAusschreibung 10.-12.03.23 München inkl. Dienstplan \n\n 
URL:http://taktik-logistiklehrer.de/event/10-12-03-2023-aufbsem-i-verteidigung-muenchen
LOCATION:Sanitätakademie der Bundeswehr München\, Neuherbergstraße 11\, München\, Bayern\, Deutschland
CATEGORIES:Aufbauseminar I Verteidigung
ATTACH;FMTTYPE=image/png:http://taktik-logistiklehrer.de/wp-content/uploads/2022/11/image.png
END:VEVENT
BEGIN:VEVENT
DTSTART;VALUE=DATE:20230318
DTEND;VALUE=DATE:20230319
DTSTAMP:20260423T185819
CREATED:20230120T135847Z
LAST-MODIFIED:20230305T194628Z
UID:690-1679097600-1679183999@taktik-logistiklehrer.de
SUMMARY:18.03.2023 Taktische Aus- und Weiterbildung\, ROTH
DESCRIPTION:Ausb: OTL a.D. Greim \n\nAusschreibung folgt
URL:http://taktik-logistiklehrer.de/event/18-03-2023-taktische-aus-und-weiterbildung-roth
LOCATION:Otto-Lilienthal-Kaserne\, Kiliansdorf-Siedlung 1\, Roth\, 91154
END:VEVENT
BEGIN:VEVENT
DTSTART;VALUE=DATE:20230324
DTEND;VALUE=DATE:20230326
DTSTAMP:20260423T185819
CREATED:20230120T165755Z
LAST-MODIFIED:20230305T194622Z
UID:733-1679616000-1679788799@taktik-logistiklehrer.de
SUMMARY:24.03. - 25.03.2023 Taktische Aus- und Weiterbildung "Taktik 1"\, WUNSTORF
DESCRIPTION:Ausb: Oberst d.R. Biester \n\nAusschreibung folgt
URL:http://taktik-logistiklehrer.de/event/24-03-25-03-2023-taktische-aus-und-weiterbildung-grundlagen-wunstorf
LOCATION:Fliegerhorst Wunstorf\, Zur Luftbrücke 1\, Wunstorf\, 31515
END:VEVENT
BEGIN:VEVENT
DTSTART;VALUE=DATE:20230324
DTEND;VALUE=DATE:20230327
DTSTAMP:20260423T185819
CREATED:20230120T140033Z
LAST-MODIFIED:20230305T194615Z
UID:692-1679616000-1679875199@taktik-logistiklehrer.de
SUMMARY:24.03. - 26.03.2023 Taktische Aus- und Weiterbildung\, TUNTENHAUSEN
DESCRIPTION:Ausb: OTL a.D. Greim \n\n>>Ausschreibung 24.-26.03.2023 Tuntenhausen<<
URL:http://taktik-logistiklehrer.de/event/24-03-26-03-2023-taktische-aus-und-weiterbildung-tuntenhausen
LOCATION:MHW Akademie\, Eisenbartling 44\, Tuntenhausen\, 83104\, Deutschland
END:VEVENT
END:VCALENDAR