BEGIN:VCALENDAR
VERSION:2.0
PRODID:-//Taktik-Logistiklehrer - ECPv6.15.20//NONSGML v1.0//EN
CALSCALE:GREGORIAN
METHOD:PUBLISH
X-WR-CALNAME:Taktik-Logistiklehrer
X-ORIGINAL-URL:http://taktik-logistiklehrer.de
X-WR-CALDESC:Veranstaltungen für Taktik-Logistiklehrer
REFRESH-INTERVAL;VALUE=DURATION:PT1H
X-Robots-Tag:noindex
X-PUBLISHED-TTL:PT1H
BEGIN:VTIMEZONE
TZID:UTC
BEGIN:STANDARD
TZOFFSETFROM:+0000
TZOFFSETTO:+0000
TZNAME:UTC
DTSTART:20220101T000000
END:STANDARD
END:VTIMEZONE
BEGIN:VEVENT
DTSTART;TZID=UTC:20230203T180000
DTEND;TZID=UTC:20230205T180000
DTSTAMP:20260423T203003
CREATED:20221213T135742Z
LAST-MODIFIED:20230120T163549Z
UID:489-1675447200-1675620000@taktik-logistiklehrer.de
SUMMARY:03.02. - 05.02.2023 Grundlagenseminar (GrdlSem)\, MÜNCHEN
DESCRIPTION:Ausb: OTL a.D. Bettendorf\, OTL a.D. Greim \n\nAusschreibung 03.-05.02.23 München \nvorläufiger Dienstplan  \n\n 
URL:http://taktik-logistiklehrer.de/event/03-05-02-2023-grundlagenseminar-grdlsem-muenchen
LOCATION:Sanitätakademie der Bundeswehr München\, Neuherbergstraße 11\, München\, Bayern\, Deutschland
CATEGORIES:Grundlagenseminar
ATTACH;FMTTYPE=image/jpeg:http://taktik-logistiklehrer.de/wp-content/uploads/2022/11/IMG_20221023_101854-1200x514-1.jpg
END:VEVENT
BEGIN:VEVENT
DTSTART;TZID=UTC:20230210T180000
DTEND;TZID=UTC:20230212T120000
DTSTAMP:20260423T203003
CREATED:20221213T142856Z
LAST-MODIFIED:20230123T065552Z
UID:509-1676052000-1676203200@taktik-logistiklehrer.de
SUMMARY:10.02. - 12.02.2023  Aufbauseminar II\, "Angriff"\, WILDFLECKEN
DESCRIPTION:Ausb: OTL a.D. Greim\, OTL a.D. Baumer \n\nAusschreibung 10.02.-12.02.23 Wildflecken \n\nvorläufiger Dienstplan Taktik Angriff
URL:http://taktik-logistiklehrer.de/event/10-12-02-2023-aufbsem-ii-angriff-wildflecken
LOCATION:Gefechtssimulationszentrum Heer\, Rhön-Kaserne\, Wildflecken\, 97772\, Deutschland
CATEGORIES:Aufbauseminar II Verteidigung (Geländebesprechung)
ATTACH;FMTTYPE=image/png:http://taktik-logistiklehrer.de/wp-content/uploads/2022/11/image.png
END:VEVENT
BEGIN:VEVENT
DTSTART;TZID=UTC:20230224T180000
DTEND;TZID=UTC:20230226T120000
DTSTAMP:20260423T203003
CREATED:20221213T143407Z
LAST-MODIFIED:20230120T163941Z
UID:511-1677261600-1677412800@taktik-logistiklehrer.de
SUMMARY:24.02. - 26.02.2023 Grundlagenseminar (GrdlSem)\, OSTERHOLZ-SCHARMBECK
DESCRIPTION:Ausb: OTL a. D. Greim\, OTL Hahn \n\nAusschreibung 24.02.-26.02.2023 Osterholz-Scharmbeck
URL:http://taktik-logistiklehrer.de/event/24-02-26-02-2023-grundlagenseminar-grdlsem-osterholz-scharmbeck
LOCATION:Logistikschule der Bundeswehr\, Bremerhavener Heerstraße 10\, Osterholz-Scharmbeck\, 27711
CATEGORIES:Grundlagenseminar
ATTACH;FMTTYPE=image/jpeg:http://taktik-logistiklehrer.de/wp-content/uploads/2022/11/IMG_20221023_101854-1200x514-1.jpg
END:VEVENT
END:VCALENDAR