BEGIN:VCALENDAR
VERSION:2.0
PRODID:-//Taktik-Logistiklehrer - ECPv6.15.20//NONSGML v1.0//EN
CALSCALE:GREGORIAN
METHOD:PUBLISH
X-WR-CALNAME:Taktik-Logistiklehrer
X-ORIGINAL-URL:http://taktik-logistiklehrer.de
X-WR-CALDESC:Veranstaltungen für Taktik-Logistiklehrer
REFRESH-INTERVAL;VALUE=DURATION:PT1H
X-Robots-Tag:noindex
X-PUBLISHED-TTL:PT1H
BEGIN:VTIMEZONE
TZID:UTC
BEGIN:STANDARD
TZOFFSETFROM:+0000
TZOFFSETTO:+0000
TZNAME:UTC
DTSTART:20230101T000000
END:STANDARD
END:VTIMEZONE
BEGIN:VEVENT
DTSTART;TZID=UTC:20260410T180000
DTEND;TZID=UTC:20260412T130000
DTSTAMP:20260421T122831
CREATED:20260217T095320Z
LAST-MODIFIED:20260219T064446Z
UID:4954-1775844000-1775998800@taktik-logistiklehrer.de
SUMMARY:10.04. - 12.04.2026 taktische Aus- und Weiterbildung\, Grundlagenseminar\, PFULLENDORF
DESCRIPTION:Ausb: OTL a.D. Thomas Greim\, OTL Holger Hartmann \n\nAusschreibung und Dienstplan Anmeldung erfolgt
URL:http://taktik-logistiklehrer.de/event/10-04-12-04-2026-taktische-aus-und-weiterbildung-grundlagenseminar-pfullendorf
LOCATION:Staufer Kaserne\, Kasernenstr. 20\, Pfullendorf\, 88630
END:VEVENT
BEGIN:VEVENT
DTSTART;TZID=UTC:20260410T180000
DTEND;TZID=UTC:20260412T120000
DTSTAMP:20260421T122831
CREATED:20251203T120417Z
LAST-MODIFIED:20260219T064425Z
UID:4260-1775844000-1775995200@taktik-logistiklehrer.de
SUMMARY:10.04. - 12.04.2026 Aufbauseminar I (Verteidigung) SÜD\, MÜNCHEN
DESCRIPTION:Ausb.: OTL a.D. Jürgen Baumer\, OTL a.D. Manfred Bettendorf \n\nAusschreibung inkl. vorl. Dienstplan \nAnmeldung bitte über beigefügtem Link: \nTaktikaufbau Seminar I VID: 1000 25 0092 München \nbis zum 15.03.2026
URL:http://taktik-logistiklehrer.de/event/10-04-12-04-2026-aufbauseminar-i-verteidigung-sued-muenchen
LOCATION:Sanitätakademie der Bundeswehr München\, Neuherbergstraße 11\, München\, Bayern\, Deutschland
CATEGORIES:Aufbauseminar I Verteidigung
ATTACH;FMTTYPE=image/jpeg:http://taktik-logistiklehrer.de/wp-content/uploads/2025/09/1-1-scaled.jpg
END:VEVENT
BEGIN:VEVENT
DTSTART;TZID=UTC:20260410T163000
DTEND;TZID=UTC:20260411T170000
DTSTAMP:20260421T122831
CREATED:20260224T114955Z
LAST-MODIFIED:20260314T144254Z
UID:5019-1775838600-1775926800@taktik-logistiklehrer.de
SUMMARY:10.04. - 11.04.2026 Taktische Aus- und Weiterbildung "Kurs 2"\, WUNSTORF
DESCRIPTION:Ausb: Oberstleutnant d. R. Hans-Joachim Pratje\, Leitender \nOberst d. R. Jürgen Biester\, Taktik- und Logistiklehrer \n\nMeldeschluss: Mittwoch\, 01.04.2026\, 09:00 Uhr \nAnmeldungen unter nienburg@reservistenverband.de oder telefonisch unter 05021 915039 unter Angabe von Namen\, Dienstgrad\, Anschrift\, PK-Ziffer und ggf. Kfz-Kennzeichen. \n\nAusschreibung \n vorl. DstPl
URL:http://taktik-logistiklehrer.de/event/10-04-11-04-2026-taktische-aus-und-weiterbildung-kurs-2-wunstorf
LOCATION:Fliegerhorst Wunstorf\, Zur Luftbrücke 1\, Wunstorf\, 31515
END:VEVENT
BEGIN:VEVENT
DTSTART;TZID=UTC:20260313T180000
DTEND;TZID=UTC:20260315T120000
DTSTAMP:20260421T122831
CREATED:20251203T115828Z
LAST-MODIFIED:20260219T064403Z
UID:4258-1773424800-1773576000@taktik-logistiklehrer.de
SUMMARY:13.03. - 15.03.2026 Taktikgrundlagenseminar SÜD\, MÜNCHEN
DESCRIPTION:Ausb.: OTL a.D. Manfred Bettendorf\, OTL Martin Müller \n\nAusschreibung inkl. vorl. Dienstplan \nAnmeldung bis 28.02.2026 über folgenden Link: \n Taktikgrundlagen Seminar VID: 1000 25 0089 München
URL:http://taktik-logistiklehrer.de/event/13-03-15-03-2026-taktikgrundlagenseminar-sued-muenchen
LOCATION:Sanitätakademie der Bundeswehr München\, Neuherbergstraße 11\, München\, Bayern\, Deutschland
CATEGORIES:Grundlagenseminar
ATTACH;FMTTYPE=image/jpeg:http://taktik-logistiklehrer.de/wp-content/uploads/2023/06/IMG_3477-2-scaled.jpg
END:VEVENT
BEGIN:VEVENT
DTSTART;TZID=UTC:20260227T160000
DTEND;TZID=UTC:20260228T163000
DTSTAMP:20260421T122831
CREATED:20260224T113024Z
LAST-MODIFIED:20260224T113651Z
UID:5013-1772208000-1772296200@taktik-logistiklehrer.de
SUMMARY:27.02. - 28.02.2026 Taktiksche Aus- und Weiterbidung "Kurs 1"\, WUNSTORF
DESCRIPTION:Ausb: Oberstleutnant d. R. Hans-Joachim Pratje\, Leitender \nOberst d. R. Jürgen Biester\, Taktik- und Logistiklehrer \n\nMeldeschluss: Mittwoch\, 18.02.2026\, 09:00 Uhr \nAnmeldungen unter nienburg@reservistenverband.de oder telefonisch unter 05021 915039 unter Angabe von Namen\, Dienstgrad\, Anschrift\, PK-Ziffer und ggf. Kfz-Kennzeichen. \n\nAusschreibung \nDienstplan
URL:http://taktik-logistiklehrer.de/event/27-02-28-02-2026-taktiksche-aus-und-weiterbidung-kurs-1-wunstorf
LOCATION:Fliegerhorst Wunstorf\, Zur Luftbrücke 1\, Wunstorf\, 31515
END:VEVENT
BEGIN:VEVENT
DTSTART;TZID=UTC:20260130T173000
DTEND;TZID=UTC:20260201T120000
DTSTAMP:20260421T122831
CREATED:20251104T083406Z
LAST-MODIFIED:20251104T083407Z
UID:3919-1769794200-1769947200@taktik-logistiklehrer.de
SUMMARY:30.01. - 01.02.2026 Taktikgrundlagenseminar SÜD\, MÜNCHEN
DESCRIPTION:Ausb: OTL a.D. Manfred Bettendorf\, OTL Martin Müller \n\nAusschreibung inkl. Dienstplan \n\nAnmeldung bis zum 16.12.2025 über folgenden Link: \nhttps://forms.cloud.microsoft/e/yEKJwngMHX
URL:http://taktik-logistiklehrer.de/event/30-01-01-02-2026-taktikgrundlagenseminar-sued-muenchen
LOCATION:Sanitätakademie der Bundeswehr München\, Neuherbergstraße 11\, München\, Bayern\, Deutschland
CATEGORIES:Grundlagenseminar
ATTACH;FMTTYPE=image/jpeg:http://taktik-logistiklehrer.de/wp-content/uploads/2023/10/IMG_3477-1-edited-scaled.jpg
END:VEVENT
BEGIN:VEVENT
DTSTART;TZID=UTC:20251205T180000
DTEND;TZID=UTC:20251207T120000
DTSTAMP:20260421T122831
CREATED:20250509T055632Z
LAST-MODIFIED:20250509T071248Z
UID:2403-1764957600-1765108800@taktik-logistiklehrer.de
SUMMARY:05.12. -07.12.2025 Taktik Ergänzungsseminar SÜD\, MÜNCHEN
DESCRIPTION:Ausb: OTL a.D. Jürgen Baumer\, OTL a.D. Manfred Bettendorf \n\nAusschreibung und Dienstplan \nAnmeldung erfolgt ausschließlich über den folgenden Link \nhttps://forms.office.com/e/jiRtGFGQXk \nbis spätesten zum 30.10.25 \nVoraussetzungen: Teilnahme an einem Grundlagenseminar\, an den Aufbauseminaren I und II und SIRA oder Aufbauseminaren I\, II und III sowie SIRA sind Voraussetzung.
URL:http://taktik-logistiklehrer.de/event/05-12-07-12-2025-taktik-ergaenzungsseminar-sued-muenchen
LOCATION:Sanitätakademie der Bundeswehr München\, Neuherbergstraße 11\, München\, Bayern\, Deutschland
ATTACH;FMTTYPE=image/jpeg:http://taktik-logistiklehrer.de/wp-content/uploads/2023/11/Lage-PzBtl43-scaled.jpg
END:VEVENT
BEGIN:VEVENT
DTSTART;TZID=UTC:20251114T160000
DTEND;TZID=UTC:20251115T163000
DTSTAMP:20260421T122831
CREATED:20250108T120225Z
LAST-MODIFIED:20250108T120327Z
UID:2093-1763136000-1763224200@taktik-logistiklehrer.de
SUMMARY:14.11. - 15.11.2025 Aus- und Weiterbildung "Kurs 7"\, WUNSTORF
DESCRIPTION:Ausb: Oberstleutnant d. R. Hans-Joachim Pratje\, Leitender \nOberst d. R. Jürgen Biester\, Taktik- und Logistiklehrer \n\nAnmeldung bis 05.11.2025\, 09:00 Uhr über die Geschäftsstelle Nienburg \nper Mail an nienburg@reservistenverband.de oder telefonisch unter 05021 – 915 039 \nunter Angabe von Namen\, Dienstgrad\, Anschrift\, PK-Ziffer und ggf. KFZ-Kennzeichen \nAusschreibung Kurs 7
URL:http://taktik-logistiklehrer.de/event/14-11-15-11-2025-aus-und-weiterbildung-kurs-6-wunstorf
LOCATION:Fliegerhorst Wunstorf\, Zur Luftbrücke 1\, Wunstorf\, 31515
END:VEVENT
BEGIN:VEVENT
DTSTART;TZID=UTC:20251107T180000
DTEND;TZID=UTC:20251109T120000
DTSTAMP:20260421T122831
CREATED:20250818T062555Z
LAST-MODIFIED:20250818T062555Z
UID:3047-1762538400-1762689600@taktik-logistiklehrer.de
SUMMARY:07.11. - 09.11.2025 Taktikgrundlagenseminar Nord\, ALT DUVENSTEDT
DESCRIPTION:Ausb: OTL a.D. Hendrik Gutta\, OTL Wolfgang Rudolph \n\nAusschreibung inkl. Dienstplan \n\nAnmeldung bis zum 30.09.2025 über folgenden Link: \nhttps://forms.office.com/e/x9q4JdZVR4
URL:http://taktik-logistiklehrer.de/event/07-11-09-11-2025-taktikgrundlagenseminar-nord-alt-duvenstedt
LOCATION:Hugo-Junkers-Kaserne\, Krummenorter Heide 7-10\, Alt Duvenstedt\, 24791\, Deutschland
CATEGORIES:Grundlagenseminar
ATTACH;FMTTYPE=image/jpeg:http://taktik-logistiklehrer.de/wp-content/uploads/2023/10/IMG_3477-1-edited-scaled.jpg
END:VEVENT
BEGIN:VEVENT
DTSTART;TZID=UTC:20251024T160000
DTEND;TZID=UTC:20251025T163000
DTSTAMP:20260421T122831
CREATED:20250108T115808Z
LAST-MODIFIED:20250108T115808Z
UID:2090-1761321600-1761409800@taktik-logistiklehrer.de
SUMMARY:24.10. - 25.10.2025 Taktische Aus - und Weiterbildung "Kurs 6"\, WUNSTORF
DESCRIPTION:Ausb: Oberstleutnant d. R. Hans-Joachim Pratje\, Leitender \nOberst d. R. Jürgen Biester\, Taktik- und Logistiklehrer \n\nAnmeldung bis 15.10.2025\, 09:00 Uhr über die Geschäftsstelle Nienburg \nper Mail an nienburg@reservistenverband.de oder telefonisch unter 05021 – 915 039 \nunter Angabe von Namen\, Dienstgrad\, Anschrift\, PK-Ziffer und ggf. KFZ-Kennzeichen \nAusschreibung Kurs 6
URL:http://taktik-logistiklehrer.de/event/24-10-25-10-2025-taktische-aus-und-weiterbildung-kurs-6-wunstorf
LOCATION:Fliegerhorst Wunstorf\, Zur Luftbrücke 1\, Wunstorf\, 31515
END:VEVENT
BEGIN:VEVENT
DTSTART;TZID=UTC:20251017T180000
DTEND;TZID=UTC:20251019T120000
DTSTAMP:20260421T122831
CREATED:20250818T063915Z
LAST-MODIFIED:20250818T064214Z
UID:3053-1760724000-1760875200@taktik-logistiklehrer.de
SUMMARY:17.10. - 19.10.2025 Taktikaufbauseminar III (Gefechtsstandausbildung) Nord\, HANNOVER
DESCRIPTION:Ausb: OTL a.D. Jürgen Baumer\, OTL a.D. Manfred Bettendorf \n\nAusschreibung \n\nAnmeldung bis zum 01.09.2025 über folgenden Link: \nhttps://forms.office.com/e/5xQYAiwxqL
URL:http://taktik-logistiklehrer.de/event/17-10-19-10-2025-tatikaufbauseminar-iii-nord-hannover
LOCATION:Hauptfeldwebel-Lagenstein-Kaserne\, Kugelfangtrift 1\, Hannover\, 30179
CATEGORIES:Aufbauseminar III Verteidigung (Gefechtsstandausbildung)
ATTACH;FMTTYPE=image/jpeg:http://taktik-logistiklehrer.de/wp-content/uploads/2023/06/IMG_3529-2-scaled.jpg
END:VEVENT
BEGIN:VEVENT
DTSTART;TZID=UTC:20250919T180000
DTEND;TZID=UTC:20250921T120000
DTSTAMP:20260421T122831
CREATED:20250225T064816Z
LAST-MODIFIED:20250225T064816Z
UID:2203-1758304800-1758456000@taktik-logistiklehrer.de
SUMMARY:19.09. - 21.09.2025 Taktik Aufbauseminar II (Geländebesprechung)\, im Raum Erfurt
DESCRIPTION:Ausb: OTL a.D. Jürgen Baumer\, OTL a.D. Manfred Bettendorf\, OTL a.D. Thomas Greim \n\nAusschreibung und Dienstplan \n\nAnmeldung bis spätestens 31.07.2025 über folgenden Link \nhttps://forms.office.com/e/veScHHNeQm \nDer genaue Durchführungsort wird noch bekanntgegeben! \n 
URL:http://taktik-logistiklehrer.de/event/19-09-21-09-2025-taktik-aufbauseminar-ii-gelaendebesprechung-im-raum-erfurt
CATEGORIES:Aufbauseminar II Verteidigung (Geländebesprechung)
ATTACH;FMTTYPE=image/jpeg:http://taktik-logistiklehrer.de/wp-content/uploads/2023/06/IMG_3416-3-scaled.jpg
END:VEVENT
BEGIN:VEVENT
DTSTART;TZID=UTC:20250919T163000
DTEND;TZID=UTC:20250920T160000
DTSTAMP:20260421T122831
CREATED:20250108T115406Z
LAST-MODIFIED:20250108T115406Z
UID:2087-1758299400-1758384000@taktik-logistiklehrer.de
SUMMARY:19.09. - 20.09.2025 Taktische Aus- und Weiterbildung "Kurs 5"\, WUNSTORF
DESCRIPTION:Ausb: Oberstleutnant d. R. Hans-Joachim Pratje\, Leitender \nOberst d. R. Jürgen Biester\, Taktik- und Logistiklehrer \n\nAnmeldung bis 10.09.2025\, 09:00 Uhr über die Geschäftsstelle Nienburg \nper Mail an nienburg@reservistenverband.de oder telefonisch unter 05021 – 915 039 \nunter Angabe von Namen\, Dienstgrad\, Anschrift\, PK-Ziffer und ggf. KFZ-Kennzeichen \nAusschreibung Kurs 5
URL:http://taktik-logistiklehrer.de/event/19-09-20-09-2025-taktische-aus-und-weiterbildung-kurs-5-wunstorf
LOCATION:Fliegerhorst Wunstorf\, Zur Luftbrücke 1\, Wunstorf\, 31515
END:VEVENT
BEGIN:VEVENT
DTSTART;TZID=UTC:20250905T180000
DTEND;TZID=UTC:20250907T113000
DTSTAMP:20260421T122831
CREATED:20241128T091353Z
LAST-MODIFIED:20241128T091354Z
UID:1971-1757095200-1757244600@taktik-logistiklehrer.de
SUMMARY:05.09. - 07.09.2025 Taktikaufbauseminar III (Gefechtsstandausbildung) SÜD\, MÜNCHEN
DESCRIPTION:Ausb: OTL a.D. Jürgen Baumer\, OTL a.D. Manfred Bettendorf\n \n\nAusschreibung mit Dienstplan \n\nAnmeldung bitte bis zum 01.07.2025 über folgenden Link: \nhttps://forms.office.com/e/kfCfWpUGkB
URL:http://taktik-logistiklehrer.de/event/05-09-07-09-2025-taktikaufbauseminar-iii-gefechtsstandausbildung-sued-muenchen
LOCATION:Sanitätakademie der Bundeswehr München\, Neuherbergstraße 11\, München\, Bayern\, Deutschland
CATEGORIES:Aufbauseminar III Verteidigung (Gefechtsstandausbildung)
ATTACH;FMTTYPE=image/jpeg:http://taktik-logistiklehrer.de/wp-content/uploads/2023/06/IMG_3529-2-scaled.jpg
END:VEVENT
BEGIN:VEVENT
DTSTART;TZID=UTC:20250829T180000
DTEND;TZID=UTC:20250831T120000
DTSTAMP:20260421T122831
CREATED:20250424T105613Z
LAST-MODIFIED:20250505T044709Z
UID:2354-1756490400-1756641600@taktik-logistiklehrer.de
SUMMARY:29.08. - 31.08.2025 Taktikaufbauseminar I SÜD - Verteidigung\, MÜNCHEN
DESCRIPTION:Ausb: OTL a.D. Jürgen Baumer\, OTL a.D. Manfred Bettendorf \n\nAusschreibung inkl. Dienstplan \n\nAnmeldung bis 30.06.2025 über folgenden Link \nhttps://forms.office.com/e/JTdiLHWWm9
URL:http://taktik-logistiklehrer.de/event/29-08-31-08-2025-taktikaufbauseminar-i-sued-verteidigung-muenchen
LOCATION:Sanitätakademie der Bundeswehr München\, Neuherbergstraße 11\, München\, Bayern\, Deutschland
CATEGORIES:Aufbauseminar I Verteidigung
ATTACH;FMTTYPE=image/jpeg:http://taktik-logistiklehrer.de/wp-content/uploads/2023/10/PzBtl-edited.jpg
END:VEVENT
BEGIN:VEVENT
DTSTART;TZID=UTC:20250613T160000
DTEND;TZID=UTC:20250614T163000
DTSTAMP:20260421T122831
CREATED:20250108T114638Z
LAST-MODIFIED:20250312T094701Z
UID:2083-1749830400-1749918600@taktik-logistiklehrer.de
SUMMARY:13.06. - 14.06.2025 Taktische Aus- und Weiterbildung "Kurs 4"\, WUNSTORF
DESCRIPTION:Ausb: Oberstleutnant d. R. Hans-Joachim Pratje\, Leitender \n               Oberst d. R. Jürgen Biester\, Taktik- und Logistiklehrer \n\nAnmeldung bis 04.06.2025\, 09:00 Uhr über die Geschäftsstelle Nienburg \nper Mail an nienburg@reservistenverband.de oder telefonisch unter 05021 – 915 039 \nunter Angabe von Namen\, Dienstgrad\, Anschrift\, PK-Ziffer und ggf. KFZ-Kennzeichen \nAusschreibung Kurs 4 \nDienstplan
URL:http://taktik-logistiklehrer.de/event/13-06-14-06-2025-taktische-aus-und-weiterbildung-kurs-4-wunstorf
LOCATION:Fliegerhorst Wunstorf\, Zur Luftbrücke 1\, Wunstorf\, 31515
END:VEVENT
BEGIN:VEVENT
DTSTART;TZID=UTC:20250523T180000
DTEND;TZID=UTC:20250525T120000
DTSTAMP:20260421T122831
CREATED:20250401T061828Z
LAST-MODIFIED:20250401T105211Z
UID:2300-1748023200-1748174400@taktik-logistiklehrer.de
SUMMARY:23.05. - 25.05.2025 Taktikgrundlagen Seminar NORD\, NIENBURG
DESCRIPTION:Ausb: OTL a.D. Hendrik Guttau\, OTL a.D. Thomas Greim\n \n\nAusschreibung Taktik Grundlagen NIENBURG \nvorl. Dienstplan  \n\nAnmeldung bis spätestens 31.03.2025 mit folgendem Link \nhttps://forms.office.com/e/1tnWaAt4X6
URL:http://taktik-logistiklehrer.de/event/23-05-25-05-2025-taktikgrundlagen-seminar-nord-nienburg
LOCATION:Clausewitz Kaserne\, Am Rehhagen 10\, Nienburg /Weser\, 31582\, Deutschland
CATEGORIES:Grundlagenseminar
ATTACH;FMTTYPE=image/jpeg:http://taktik-logistiklehrer.de/wp-content/uploads/2023/06/IMG_3477-2-scaled.jpg
END:VEVENT
BEGIN:VEVENT
DTSTART;TZID=UTC:20250502T180000
DTEND;TZID=UTC:20250504T113000
DTSTAMP:20260421T122831
CREATED:20241128T085019Z
LAST-MODIFIED:20241128T090130Z
UID:1966-1746208800-1746358200@taktik-logistiklehrer.de
SUMMARY:02.05. - 04.05.2025 Taktikaufbauseminar I\, ALT DUVENSTEDT
DESCRIPTION:Ausb: OTL a.D. Hendrik Guttau\, OTL Martin Zabel   \n\nAusschreibung mit Dienstplan \n\nAnmeldung bitte bis zum 03.02.2025 über folgenden Link: \nhttps://forms.office.com/e/WFEzDr9L01
URL:http://taktik-logistiklehrer.de/event/02-05-04-05-2025-taktikaufbauseminar-i-alt-duvenstedt
LOCATION:Hugo-Junkers-Kaserne\, Krummenorter Heide 7-10\, Alt Duvenstedt\, 24791\, Deutschland
CATEGORIES:Aufbauseminar I Verteidigung
ATTACH;FMTTYPE=image/jpeg:http://taktik-logistiklehrer.de/wp-content/uploads/2023/02/PzBtl.jpg
END:VEVENT
BEGIN:VEVENT
DTSTART;TZID=UTC:20250425T180000
DTEND;TZID=UTC:20250427T120000
DTSTAMP:20260421T122831
CREATED:20250225T063714Z
LAST-MODIFIED:20250225T063714Z
UID:2200-1745604000-1745755200@taktik-logistiklehrer.de
SUMMARY:25.04. - 27.04.2025 Taktikgrundlagen Seminar SÜD\, MÜNCHEN
DESCRIPTION:Ausb: OTL a.D. Jürgen Baumer\, OTL a.D. Manfred Bettendorf \n\nAusschreibung und Dienstplan \n\nAnmeldung bis spätestens 31.03.2025 mit folgendem Link \nhttps://forms.office.com/e/KxkqWikXwN  \n\n 
URL:http://taktik-logistiklehrer.de/event/25-04-27-04-2025-taktikgrundlagen-seminar-sued-muenchen
LOCATION:Sanitätakademie der Bundeswehr München\, Neuherbergstraße 11\, München\, Bayern\, Deutschland
CATEGORIES:Grundlagenseminar
ATTACH;FMTTYPE=image/jpeg:http://taktik-logistiklehrer.de/wp-content/uploads/2023/10/IMG_3477-1-edited-scaled.jpg
END:VEVENT
BEGIN:VEVENT
DTSTART;TZID=UTC:20250411T160000
DTEND;TZID=UTC:20250412T163000
DTSTAMP:20260421T122831
CREATED:20250108T113619Z
LAST-MODIFIED:20250312T094541Z
UID:2077-1744387200-1744475400@taktik-logistiklehrer.de
SUMMARY:11.04. - 12.04.2025 Taktische Aus- und Weiterbildung "Kurs 2"\, WUNSTORF
DESCRIPTION:Ausb: Oberstleutnant d. R. Hans-Joachim Pratje\, Leitender \nOberst d. R. Jürgen Biester\, Taktik- und Logistiklehrer \n  \n\nAnmeldung bis 02.04.2025\, 09:00 Uhr über die Geschäftsstelle Nienburg \nper Mail an nienburg@reservistenverband.de oder telefonisch unter 05021 – 915 039 \nunter Angabe von Namen\, Dienstgrad\, Anschrift\, PK-Ziffer und ggf. KFZ-Kennzeichen \nAusschreibung Kurs 2 \nDienstplan
URL:http://taktik-logistiklehrer.de/event/11-04-12-04-2025-taktische-aus-und-weiterbildung-kurs-2-wunstorf
LOCATION:Fliegerhorst Wunstorf\, Zur Luftbrücke 1\, Wunstorf\, 31515
END:VEVENT
BEGIN:VEVENT
DTSTART;TZID=UTC:20250314T180000
DTEND;TZID=UTC:20250316T113000
DTSTAMP:20260421T122831
CREATED:20241128T092032Z
LAST-MODIFIED:20241128T092033Z
UID:1974-1741975200-1742124600@taktik-logistiklehrer.de
SUMMARY:14.03. - 16.03.2025 Taktikaufbauseminar I SÜD\, MÜNCHEN
DESCRIPTION:Ausb: OTL a.D. Jürgen Baumer\, OTL a.D. Manfred Bettendorf\n \n\nAusschreibung mit Dienstplan \n\nAnmeldung bitte bis zum 03.02.2025 über folgenden Link: \nhttps://forms.office.com/e/rJWQwTryAh
URL:http://taktik-logistiklehrer.de/event/14-03-16-03-2025-taktikaufbauseminar-i-sued-muenchen
LOCATION:Sanitätakademie der Bundeswehr München\, Neuherbergstraße 11\, München\, Bayern\, Deutschland
CATEGORIES:Aufbauseminar I Verteidigung
ATTACH;FMTTYPE=image/jpeg:http://taktik-logistiklehrer.de/wp-content/uploads/2023/02/PzBtl.jpg
END:VEVENT
BEGIN:VEVENT
DTSTART;TZID=UTC:20250228T160000
DTEND;TZID=UTC:20250301T163000
DTSTAMP:20260421T122831
CREATED:20250108T112940Z
LAST-MODIFIED:20250108T114023Z
UID:2073-1740758400-1740846600@taktik-logistiklehrer.de
SUMMARY:28.02. - 01.03.2025 Taktische Aus- und Weiterbildung "Kurs 1"\, WUNSTORF
DESCRIPTION:Ausb: Oberstleutnant d. R. Hans-Joachim Pratje\, Leitender \nOberst d. R. Jürgen Biester\, Taktik- und Logistiklehrer \nOberstleutnant d. R. Zabel\, Taktik- und Logistiklehrer \n\nAnmeldung bis 19.02.2025\, 09:00 Uhr über die Geschäftsstelle Nienburg \nper Mail an nienburg@reservistenverband.de oder telefonisch unter 05021 – 915 039 \nunter Angabe von Namen\, Dienstgrad\, Anschrift\, PK-Ziffer und ggf. KFZ-Kennzeichen \nAusschreibung Kurs 1 \nDienstplan Kurs 1
URL:http://taktik-logistiklehrer.de/event/28-02-01-03-2025-taktische-aus-und-weiterbildung-kurs1-wunstorf
LOCATION:Fliegerhorst Wunstorf\, Zur Luftbrücke 1\, Wunstorf\, 31515
END:VEVENT
BEGIN:VEVENT
DTSTART;TZID=UTC:20250214T180000
DTEND;TZID=UTC:20250216T113000
DTSTAMP:20260421T122831
CREATED:20241021T074030Z
LAST-MODIFIED:20241021T083952Z
UID:1892-1739556000-1739705400@taktik-logistiklehrer.de
SUMMARY:14.02. - 16.02.2025 Taktikgrundlagenseminar OST\, DELITZSCH
DESCRIPTION:Ausb: OTL a.D. Jürgen Baumer\, OTL a.D. Hendrik Guttau  \n\nAusschreibung mit Dienstplan \n\nAnmeldung bitte bis zum 31.12.2024 über folgenden Link: \nhttps://forms.office.com/e/0stfi2ncke
URL:http://taktik-logistiklehrer.de/event/14-02-16-02-2025-taktikgrundlagenseminar-ost-delitzsch
LOCATION:Feldwebel-Boldt-Kaserne\, Feldwebel-Boldt-Straße 1\, Delitzsch\, 04509\, Deutschland
CATEGORIES:Grundlagenseminar
ATTACH;FMTTYPE=image/jpeg:http://taktik-logistiklehrer.de/wp-content/uploads/2023/06/IMG_3477-scaled.jpg
END:VEVENT
BEGIN:VEVENT
DTSTART;TZID=UTC:20250207T180000
DTEND;TZID=UTC:20250209T113000
DTSTAMP:20260421T122831
CREATED:20241021T073338Z
LAST-MODIFIED:20241021T083855Z
UID:1889-1738951200-1739100600@taktik-logistiklehrer.de
SUMMARY:07.02. - 09.02.2025 Taktikgrundlagenseminar Nord\, DÜSSELDORF
DESCRIPTION:Ausb: OTL a.D. Thomas Greim\, OTL a.D. Hendrik Guttau  \n\nAusschreibung mit Dienstplan \n\nAnmeldung bitte bis zum 31.12.2024 über folgenden Link: \nhttps://forms.office.com/e/rKzaVpKXhx \n 
URL:http://taktik-logistiklehrer.de/event/07-02-09-02-2025-taktikgrundlagenseminar-nord-duesseldorf
LOCATION:BwDLZ Köln Tagungszentrum Düsseldorf\, Knittkuhler Str. 4\, Düsseldorf\, 40629\, Deutschland
CATEGORIES:Grundlagenseminar
ATTACH;FMTTYPE=image/jpeg:http://taktik-logistiklehrer.de/wp-content/uploads/2023/10/IMG_3477-1-edited-scaled.jpg
END:VEVENT
BEGIN:VEVENT
DTSTART;TZID=UTC:20241129T180000
DTEND;TZID=UTC:20241201T113000
DTSTAMP:20260421T122831
CREATED:20241016T125512Z
LAST-MODIFIED:20241016T125802Z
UID:1795-1732903200-1733052600@taktik-logistiklehrer.de
SUMMARY:29.11. - 01.12.2024 Taktische Aus- und Weiterbildung "Grundlagenseminar - Taktik im echten Norden"\, ALT DUVENSTEDT
DESCRIPTION:Ausb: OTL d.R. Hendrik Guttau\n \n\nAnmeldung bis 18.11.2024 über Geschäftsstelle Hohn\n \nper Mail an hohn@reservistenverband.de oder telefonisch unter 04335 942 2550 \n\nAusschreibung Taktik Grundlagenseminar \nDienstplan
URL:http://taktik-logistiklehrer.de/event/29-11-01-12-2024-taktische-aus-und-weiterbildung-grundlagenseminar-taktik-im-echten-norden-alt-duvenstedt
LOCATION:Hugo-Junkers-Kaserne\, Krummenorter Heide 7-10\, Alt Duvenstedt\, 24791\, Deutschland
END:VEVENT
BEGIN:VEVENT
DTSTART;VALUE=DATE:20241122
DTEND;VALUE=DATE:20241124
DTSTAMP:20260421T122831
CREATED:20240109T103224Z
LAST-MODIFIED:20240111T120552Z
UID:1271-1732233600-1732406399@taktik-logistiklehrer.de
SUMMARY:22.11. - 23.11.2024 Taktische Aus- und Weiterbildung "Verzögerung"\, WUNSTORF
DESCRIPTION:Ausb: O d.R. Jürgen Biester \n\nAnmeldung über die Geschäftsstelle Nienburg \nper Mail an nienburg@reservistenverband.de oder telefonisch unter 05021 – 915 039 \n 
URL:http://taktik-logistiklehrer.de/event/22-11-23-11-2024-taktische-aus-und-weiterbildung-verzoegerung-wunstorf
LOCATION:Fliegerhorst Wunstorf\, Zur Luftbrücke 1\, Wunstorf\, 31515
END:VEVENT
BEGIN:VEVENT
DTSTART;VALUE=DATE:20241025
DTEND;VALUE=DATE:20241027
DTSTAMP:20260421T122831
CREATED:20240109T103107Z
LAST-MODIFIED:20240111T120537Z
UID:1269-1729814400-1729987199@taktik-logistiklehrer.de
SUMMARY:25.10. - 26.10.2024 Taktische Aus- und Weiterbildung "Verzögerung"\, WUNSTORF
DESCRIPTION:Ausb: O d.R. Jürgen Biester \n\nAnmeldung über die Geschäftsstelle Nienburg \nper Mail an nienburg@reservistenverband.de oder telefonisch unter 05021 – 915 039 \n 
URL:http://taktik-logistiklehrer.de/event/25-10-26-10-2024-taktische-aus-und-weiterbildung-verzoegerung-wunstorf
LOCATION:Fliegerhorst Wunstorf\, Zur Luftbrücke 1\, Wunstorf\, 31515
END:VEVENT
BEGIN:VEVENT
DTSTART;TZID=UTC:20241004T180000
DTEND;TZID=UTC:20241011T120000
DTSTAMP:20260421T122831
CREATED:20221213T144329Z
LAST-MODIFIED:20240805T051449Z
UID:520-1728064800-1728648000@taktik-logistiklehrer.de
SUMMARY:04.10. - 11.10.2024 SIRA\, HAMMELBURG
DESCRIPTION:Ausb: OTL a.D. Greim\, OTL a.D. Baumer\, OTL a.D. Bettendorf \n\nAusschreibung mit Anmeldung und Dienstplan \n\nvorl. Dienstplan
URL:http://taktik-logistiklehrer.de/event/19-04-26-04-2024-sira-hammelburg
LOCATION:Infanterieschule  Hammelburg\, Rommelstraße 31\, Hammelburg\, Bayern\, 97762\, Deutschland
CATEGORIES:Aufbausseminar IV - SIRA
ATTACH;FMTTYPE=image/jpeg:http://taktik-logistiklehrer.de/wp-content/uploads/2023/06/IMG_3561-1-scaled.jpg
END:VEVENT
BEGIN:VEVENT
DTSTART;VALUE=DATE:20240920
DTEND;VALUE=DATE:20240922
DTSTAMP:20260421T122831
CREATED:20240109T102936Z
LAST-MODIFIED:20240111T120433Z
UID:1267-1726790400-1726963199@taktik-logistiklehrer.de
SUMMARY:20.09. - 21.09.2024 Taktische Aus- und Weiterbildung "Angriff"\, WUNSTORF
DESCRIPTION:Ausb: O d.R. Jürgen Biester \n\nAnmeldung über die Geschäftsstelle Nienburg \nper Mail an nienburg@reservistenverband.de oder telefonisch unter 05021 – 915 039 \n 
URL:http://taktik-logistiklehrer.de/event/20-09-21-09-2024-taktische-aus-und-weiterbildung-angriff-wunstorf
LOCATION:Fliegerhorst Wunstorf\, Zur Luftbrücke 1\, Wunstorf\, 31515
END:VEVENT
BEGIN:VEVENT
DTSTART;TZID=UTC:20240830T180000
DTEND;TZID=UTC:20240901T120000
DTSTAMP:20260421T122831
CREATED:20231031T110902Z
LAST-MODIFIED:20240109T104942Z
UID:1186-1725040800-1725192000@taktik-logistiklehrer.de
SUMMARY:30.08. - 01.09.2024 Taktik Aufbauseminar III (Gefechtsstandausbildung) Süd\, MÜNCHEN
DESCRIPTION:Ausb: OTL a.d. Jürgen Baumer\, OTL a.D. Manfred Bettendorf  \n\nAusschreibung inkl. Anmeldebogen und Dienstplan
URL:http://taktik-logistiklehrer.de/event/30-08-01-09-2024-taktik-aufbauseminar-iii-sued-muenchen
LOCATION:Sanitätakademie der Bundeswehr München\, Neuherbergstraße 11\, München\, Bayern\, Deutschland
CATEGORIES:Aufbauseminar III Verteidigung (Gefechtsstandausbildung)
ATTACH;FMTTYPE=image/jpeg:http://taktik-logistiklehrer.de/wp-content/uploads/2023/06/IMG_3529-2-scaled.jpg
END:VEVENT
END:VCALENDAR